BEGIN:VCALENDAR
VERSION:2.0
PRODID:-//hacksw/handcal//NONSGML v1.0//EN
CALSCALE:GREGORIAN
BEGIN:VTIMEZONE
TZID:Asia/Dubai
BEGIN:DAYLIGHT
TZOFFSETFROM:-0600
TZNAME:MDT
TZOFFSETTO:-0600
END:DAYLIGHT
END:VTIMEZONE
DTSTAMP:20260424T173412Z
UID:69eb71541d008
BEGIN:VEVENT
LOCATION:University Library, American University of Sharjah, University City, Sharjah AE
DESCRIPTION:<p><strong>Location: LIB-011 (CITL)</strong></p><h4>'You are from the country of @iamsrk. I trust you’: Shah Rukh Khan, transnational stardom and counteracting the problematics of the Muslim celebrity in contemporary India</h4><p>Abstract:<br>The MENA (Middle East and North Africa) region has long been a site of Hindi film consumption and circulation, with countries like the UAE emerging in recent years as a potent hub for Bollywood’s overseas distribution and marketing. However, the popularity and dissemination of Bollywood is not just limited to its films but also extends to its larger-than-life stars. Hindi film stars like Raj Kapoor, Amitabh Bachchan, Mithun Chakraborty and more recently, Shah Rukh Khan, have essayed a crucial role in Hindi cinema’s global consumption among foreign audiences. The popularity and deification of Bollywood stars by non-Indian and non-diasporic cinephiles underline discourses of soft power, political affinity, and transnational cultural flows, particularly in non-Western contexts. By examining the popularity and cultural currency of Shah Rukh Khan in the Middle East, particularly the UAE, this paper analyses how he is deployed to consolidate the ideas of ‘Brand India’ and ‘Brand Dubai’. Consequently, it underlines how Khan’s transnational stardom in the Middle East functions to counteract the precarity and vulnerability of his star stature in contemporary India, where the emergent right-wing, Hindutva political rhetoric have rendered him incapable of embodying the national imaginary.</p>
DTSTART;TZID=Asia/Dubai:20251015T160000
DTEND;TZID=Asia/Dubai:20251015T170000
SUMMARY:AUS Library Ed Talks: Author Talk with Dr. Sreya Mitra	
URL;VALUE=URI:/aus-library-ed-talks-author-talk-dr-sreya-mitra-0
END:VEVENT
END:VCALENDAR